BEGIN:VCALENDAR
VERSION:2.0
PRODID:-//Commonwealth Consortium for Education - ECPv5.4.0.2//NONSGML v1.0//EN
CALSCALE:GREGORIAN
METHOD:PUBLISH
X-WR-CALNAME:Commonwealth Consortium for Education
X-ORIGINAL-URL:https://commonwealtheducation.org
X-WR-CALDESC:Events for Commonwealth Consortium for Education
BEGIN:VTIMEZONE
TZID:UTC
BEGIN:STANDARD
TZOFFSETFROM:+0000
TZOFFSETTO:+0000
TZNAME:UTC
DTSTART:20220101T000000
END:STANDARD
TZID:Europe/London
BEGIN:DAYLIGHT
TZOFFSETFROM:+0000
TZOFFSETTO:+0100
TZNAME:BST
DTSTART:20220327T010000
END:DAYLIGHT
BEGIN:STANDARD
TZOFFSETFROM:+0100
TZOFFSETTO:+0000
TZNAME:GMT
DTSTART:20221030T010000
END:STANDARD
END:VTIMEZONE
BEGIN:VEVENT
DTSTART;VALUE=DATE:20220331
DTEND;VALUE=DATE:20220402
DTSTAMP:20260422T084059
CREATED:20220328T130131Z
LAST-MODIFIED:20220328T130131Z
UID:13862-1648684800-1648857599@commonwealtheducation.org
SUMMARY:Symposium: Comparative histories of development of social work across the Commonwealth
DESCRIPTION:This two-day conference/webinar will explore the diverse histories of social work across the Commonwealth as a foundation for a proposed major study. This webinar therefore sets the scene for this bigger project\, which comes at a significant moment in social work education\, as the discourse on ‘decolonising’ the social work curriculum gathers momentum.  The event includes context setting contributions from senior Commonwealth and academic figures and several presentations exploring the diverse histories of social work across the Commonwealth.
URL:https://commonwealtheducation.org/event/symposium-comparative-histories-of-development-of-social-work-across-the-commonwealth/
LOCATION:Senate House\, Malet Street\, London\, WC1E 7HU\, United Kingdom
ORGANIZER;CN="Institute%20of%20Commonwealth%20Studies":MAILTO:olga.jimenez@sas.ac.uk
END:VEVENT
BEGIN:VEVENT
DTSTART;TZID=UTC:20220404T100000
DTEND;TZID=UTC:20220404T120000
DTSTAMP:20260422T084059
CREATED:20220328T130933Z
LAST-MODIFIED:20220328T131010Z
UID:13866-1649066400-1649073600@commonwealtheducation.org
SUMMARY:Secretary-General's Structured Dialogue with Commonwealth Accredited Organisations
DESCRIPTION:Virtual meeting\, by invitation only. \nContact partnerships@commonwealth.int for further details.
URL:https://commonwealtheducation.org/event/secretary-generals-structured-dialogue-with-commonwealth-accredited-organisations/
END:VEVENT
BEGIN:VEVENT
DTSTART;VALUE=DATE:20220407
DTEND;VALUE=DATE:20220408
DTSTAMP:20260422T084059
CREATED:20220328T130745Z
LAST-MODIFIED:20220328T131502Z
UID:13864-1649289600-1649375999@commonwealtheducation.org
SUMMARY:Ramphal Institute Policy Series: Climate Finance and the Commonwealth
DESCRIPTION:Inaugural event/ in webinar and policy series. Follow up events on April 28 (2)\, May 12 (3) and May 26 (4). \nContact director@ramphalinstitute.org for further details.
URL:https://commonwealtheducation.org/event/climate-finance-and-the-commonwealth/
END:VEVENT
BEGIN:VEVENT
DTSTART;VALUE=DATE:20220422
DTEND;VALUE=DATE:20220423
DTSTAMP:20260422T084059
CREATED:20220330T153852Z
LAST-MODIFIED:20220330T153852Z
UID:13872-1650585600-1650671999@commonwealtheducation.org
SUMMARY:Deadline for delivery of CW Accredited Organisations’ and CW Associated Organisations’ collective submissions to Committee of the Whole.
DESCRIPTION:
URL:https://commonwealtheducation.org/event/deadline-for-delivery-of-cw-accredited-organisations-and-cw-associated-organisations-collective-submissions-to-committee-of-the-whole/
END:VEVENT
BEGIN:VEVENT
DTSTART;VALUE=DATE:20220423
DTEND;VALUE=DATE:20220424
DTSTAMP:20260422T084059
CREATED:20220328T131226Z
LAST-MODIFIED:20220328T131226Z
UID:13868-1650672000-1650758399@commonwealtheducation.org
SUMMARY:World Book Day
DESCRIPTION:Designated by UNESCO as a worldwide celebration of books and reading\, World Book Day is marked in over 100 countries around the globe.
URL:https://commonwealtheducation.org/event/world-book-day/
END:VEVENT
BEGIN:VEVENT
DTSTART;VALUE=DATE:20220425
DTEND;VALUE=DATE:20220426
DTSTAMP:20260422T084059
CREATED:20220330T154247Z
LAST-MODIFIED:20220330T154247Z
UID:13874-1650844800-1650931199@commonwealtheducation.org
SUMMARY:Commonwealth Short Story Prize shortlist announced
DESCRIPTION:The Commonwealth Short Story Prize is awarded annually for the best piece of unpublished short fiction. The prize is open to citizens of member states of the Commonwealth of Nations aged 18 and over.
URL:https://commonwealtheducation.org/event/commonwealth-short-story-prize-shortlist-announced/
END:VEVENT
BEGIN:VEVENT
DTSTART;VALUE=DATE:20220427
DTEND;VALUE=DATE:20220429
DTSTAMP:20260422T084059
CREATED:20220330T195313Z
LAST-MODIFIED:20220330T195313Z
UID:13878-1651017600-1651190399@commonwealtheducation.org
SUMMARY:21CCEM
DESCRIPTION:The Government of Kenya in partnership with the Commonwealth Secretariat will convene the 21st Conference of Commonwealth Education Ministers. The theme for the conference will be Re-thinking education for Innovation\, Work and Sustainability: Learning for Life \n\n\n\n\n(hybrid format\, in person in Nairobi and on-line)
URL:https://commonwealtheducation.org/event/21ccem/
END:VEVENT
BEGIN:VEVENT
DTSTART;TZID=UTC:20220428T090000
DTEND;TZID=UTC:20220428T140000
DTSTAMP:20260422T084059
CREATED:20220330T200143Z
LAST-MODIFIED:20220330T200143Z
UID:13880-1651136400-1651154400@commonwealtheducation.org
SUMMARY:EQUALS Her Digital Skills workshop Commonwealth: Introduction to Tech through mobile app development
DESCRIPTION:EQUALS Her Digital Skills was co-founded by EY\, GSMA\, ITU and W4\, and it aims to design and provide access to free\, gender transformative\, foundational digital skills training\, e-skills badges\, and e-mentoring for one million women and girls by 2026. (Virtual) \nRegistration open for girls aged 12-16 until April 15 at https://docs.google.com/forms/d/e/1FAIpQLSf4HwPk5oFjcAqr4NwXZOxyYAMXmQFavgK_Z8oH3nJQv8U3bA/viewform
URL:https://commonwealtheducation.org/event/equals-her-digital-skills-workshop-commonwealth-introduction-to-tech-through-mobile-app-development/
END:VEVENT
END:VCALENDAR