BEGIN:VCALENDAR
VERSION:2.0
PRODID:-//Commonwealth Consortium for Education - ECPv5.4.0.2//NONSGML v1.0//EN
CALSCALE:GREGORIAN
METHOD:PUBLISH
X-WR-CALNAME:Commonwealth Consortium for Education
X-ORIGINAL-URL:https://commonwealtheducation.org
X-WR-CALDESC:Events for Commonwealth Consortium for Education
BEGIN:VTIMEZONE
TZID:UTC
BEGIN:STANDARD
TZOFFSETFROM:+0000
TZOFFSETTO:+0000
TZNAME:UTC
DTSTART:20220101T000000
END:STANDARD
END:VTIMEZONE
BEGIN:VEVENT
DTSTART;VALUE=DATE:20220331
DTEND;VALUE=DATE:20220402
DTSTAMP:20260422T082101
CREATED:20220328T130131Z
LAST-MODIFIED:20220328T130131Z
UID:13862-1648684800-1648857599@commonwealtheducation.org
SUMMARY:Symposium: Comparative histories of development of social work across the Commonwealth
DESCRIPTION:This two-day conference/webinar will explore the diverse histories of social work across the Commonwealth as a foundation for a proposed major study. This webinar therefore sets the scene for this bigger project\, which comes at a significant moment in social work education\, as the discourse on ‘decolonising’ the social work curriculum gathers momentum.  The event includes context setting contributions from senior Commonwealth and academic figures and several presentations exploring the diverse histories of social work across the Commonwealth.
URL:https://commonwealtheducation.org/event/symposium-comparative-histories-of-development-of-social-work-across-the-commonwealth/
LOCATION:Senate House\, Malet Street\, London\, WC1E 7HU\, United Kingdom
ORGANIZER;CN="Institute%20of%20Commonwealth%20Studies":MAILTO:olga.jimenez@sas.ac.uk
END:VEVENT
END:VCALENDAR