BEGIN:VCALENDAR
VERSION:2.0
PRODID:-//Commonwealth Consortium for Education - ECPv5.4.0.2//NONSGML v1.0//EN
CALSCALE:GREGORIAN
METHOD:PUBLISH
X-WR-CALNAME:Commonwealth Consortium for Education
X-ORIGINAL-URL:https://commonwealtheducation.org
X-WR-CALDESC:Events for Commonwealth Consortium for Education
BEGIN:VTIMEZONE
TZID:UTC
BEGIN:STANDARD
TZOFFSETFROM:+0000
TZOFFSETTO:+0000
TZNAME:UTC
DTSTART:20190101T000000
END:STANDARD
END:VTIMEZONE
BEGIN:VEVENT
DTSTART;VALUE=DATE:20191104
DTEND;VALUE=DATE:20191108
DTSTAMP:20260420T102617
CREATED:20191103T183131Z
LAST-MODIFIED:20191103T183131Z
UID:13327-1572825600-1573171199@commonwealtheducation.org
SUMMARY:Commonwealth Law Ministers Meeting
DESCRIPTION:The biennial Commonwealth Law Ministers’ Meeting (CLMM) will be taking place in Colombo\, Sri Lanka\, from 4 to 7 November 2019. \nLaw Ministers and Attorneys General will gather to discuss recent legal developments and issues of interest to Commonwealth jurisdictions\, including electronic evidence\, data protection\, reform of civil procedure\, international commercial arbitration\, anti-corruption\, access to justice\, and vulnerable persons in the justice system.
URL:https://commonwealtheducation.org/event/commonwealth-law-ministers-meeting/
LOCATION:Colombo\, Sri Lanka
ORGANIZER;CN="Commonwealth%20Secretariat":MAILTO:e.kerr@commonwealth.int
END:VEVENT
END:VCALENDAR